Package: yamss Version: 1.33.0 Command: chmod a+r yamss -R && E:\biocbuild\bbs-3.21-bioc\R\bin\R.exe CMD build --keep-empty-dirs --no-resave-data yamss StartedAt: 2025-02-12 22:28:13 -0500 (Wed, 12 Feb 2025) EndedAt: 2025-02-12 22:32:16 -0500 (Wed, 12 Feb 2025) EllapsedTime: 243.0 seconds RetCode: 0 Status: OK PackageFile: yamss_1.33.0.tar.gz PackageFileSize: 397.3 KiB