Package: yarn Version: 1.33.0 Command: rm -rf yarn.buildbin-libdir && mkdir yarn.buildbin-libdir && /Users/biocbuild/BBS/utils/build-universal.sh yarn_1.33.0.tar.gz /Library/Frameworks/R.framework/Resources/bin/R yarn.buildbin-libdir StartedAt: 2025-02-09 22:35:09 -0500 (Sun, 09 Feb 2025) EndedAt: 2025-02-09 22:35:30 -0500 (Sun, 09 Feb 2025) EllapsedTime: 20.5 seconds RetCode: 0 Status: OK PackageFile: yarn_1.33.0.tgz PackageFileSize: 4.118 MiB