Package: yarn Version: 1.33.0 Command: /Library/Frameworks/R.framework/Resources/bin/R CMD build --keep-empty-dirs --no-resave-data yarn StartedAt: 2025-02-09 17:55:37 -0500 (Sun, 09 Feb 2025) EndedAt: 2025-02-09 17:56:11 -0500 (Sun, 09 Feb 2025) EllapsedTime: 34.4 seconds RetCode: 0 Status: OK PackageFile: yarn_1.33.0.tar.gz PackageFileSize: 2.973 MiB