Package: yarn Version: 1.33.0 Command: rm -rf yarn.buildbin-libdir && mkdir yarn.buildbin-libdir && /Users/biocbuild/BBS/utils/build-universal.sh yarn_1.33.0.tar.gz /Library/Frameworks/R.framework/Resources/bin/R yarn.buildbin-libdir StartedAt: 2025-02-10 01:22:41 -0500 (Mon, 10 Feb 2025) EndedAt: 2025-02-10 01:23:38 -0500 (Mon, 10 Feb 2025) EllapsedTime: 56.8 seconds RetCode: 0 Status: OK PackageFile: yarn_1.33.0.tgz PackageFileSize: 4.118 MiB