Package: zFPKM Version: 1.29.0 Command: /Library/Frameworks/R.framework/Resources/bin/R CMD check --install=check:zFPKM.install-out.txt --library=/Library/Frameworks/R.framework/Resources/library --no-vignettes --timings zFPKM_1.29.0.tar.gz StartedAt: 2025-02-09 21:59:27 -0500 (Sun, 09 Feb 2025) EndedAt: 2025-02-09 22:00:28 -0500 (Sun, 09 Feb 2025) EllapsedTime: 61.2 seconds RetCode: 0 Status: OK CheckDir: zFPKM.Rcheck Warnings: 0