Package: zFPKM Version: 1.29.0 Command: /home/biocbuild/R/R/bin/R CMD build --keep-empty-dirs --no-resave-data zFPKM StartedAt: 2025-01-28 03:15:40 -0000 (Tue, 28 Jan 2025) EndedAt: 2025-01-28 03:17:00 -0000 (Tue, 28 Jan 2025) EllapsedTime: 79.7 seconds RetCode: 0 Status: OK PackageFile: zFPKM_1.29.0.tar.gz PackageFileSize: 82.89 KiB