Package: zFPKM Version: 1.29.0 Command: /home/biocbuild/R/R/bin/R CMD check --install=check:zFPKM.install-out.txt --library=/home/biocbuild/R/R/site-library --no-vignettes --timings zFPKM_1.29.0.tar.gz StartedAt: 2025-01-27 14:00:43 -0000 (Mon, 27 Jan 2025) EndedAt: 2025-01-27 14:04:25 -0000 (Mon, 27 Jan 2025) EllapsedTime: 222.2 seconds RetCode: 0 Status: OK CheckDir: zFPKM.Rcheck Warnings: 0