Package: zFPKM Version: 1.29.0 Command: /Library/Frameworks/R.framework/Resources/bin/R CMD check --install=check:zFPKM.install-out.txt --library=/Library/Frameworks/R.framework/Resources/library --no-vignettes --timings zFPKM_1.29.0.tar.gz StartedAt: 2025-02-10 00:25:43 -0500 (Mon, 10 Feb 2025) EndedAt: 2025-02-10 00:28:28 -0500 (Mon, 10 Feb 2025) EllapsedTime: 164.5 seconds RetCode: 0 Status: OK CheckDir: zFPKM.Rcheck Warnings: 0