Package: zFPKM Version: 1.29.0 Command: rm -rf zFPKM.buildbin-libdir && mkdir zFPKM.buildbin-libdir && E:\biocbuild\bbs-3.21-bioc\R\bin\R.exe CMD INSTALL --build --library=zFPKM.buildbin-libdir zFPKM_1.29.0.tar.gz StartedAt: 2025-02-13 09:09:11 -0500 (Thu, 13 Feb 2025) EndedAt: 2025-02-13 09:09:35 -0500 (Thu, 13 Feb 2025) EllapsedTime: 24.4 seconds RetCode: 0 Status: OK PackageFile: zFPKM_1.29.0.zip PackageFileSize: 77.74 KiB