Package: zFPKM Version: 1.29.0 Command: chmod a+r zFPKM -R && E:\biocbuild\bbs-3.21-bioc\R\bin\R.exe CMD build --keep-empty-dirs --no-resave-data zFPKM StartedAt: 2025-02-09 22:21:26 -0500 (Sun, 09 Feb 2025) EndedAt: 2025-02-09 22:22:17 -0500 (Sun, 09 Feb 2025) EllapsedTime: 51.2 seconds RetCode: 0 Status: OK PackageFile: zFPKM_1.29.0.tar.gz PackageFileSize: 57.16 KiB