Package: zFPKM Version: 1.29.0 Command: E:\biocbuild\bbs-3.21-bioc\R\bin\R.exe CMD INSTALL zFPKM StartedAt: 2025-02-09 16:10:38 -0500 (Sun, 09 Feb 2025) EndedAt: 2025-02-09 16:11:02 -0500 (Sun, 09 Feb 2025) EllapsedTime: 24.4 seconds RetCode: 0 Status: OK