Package: zinbwave Version: 1.29.0 Maintainer: Davide Risso MaintainerEmail: risso.davide at gmail.com git_url: https://git.bioconductor.org/packages/zinbwave git_branch: devel git_last_commit: 4cf7edc git_last_commit_date: 2024-10-29 10:20:00 -0500 (Tue, 29 Oct 2024)