Package: zinbwave Version: 1.29.0 Command: rm -rf zinbwave.buildbin-libdir && mkdir zinbwave.buildbin-libdir && /Users/biocbuild/BBS/utils/build-universal.sh zinbwave_1.29.0.tar.gz /Library/Frameworks/R.framework/Resources/bin/R zinbwave.buildbin-libdir StartedAt: 2025-02-03 23:10:53 -0500 (Mon, 03 Feb 2025) EndedAt: 2025-02-03 23:11:07 -0500 (Mon, 03 Feb 2025) EllapsedTime: 13.6 seconds RetCode: 0 Status: OK PackageFile: zinbwave_1.29.0.tgz PackageFileSize: 1.017 MiB