Package: zinbwave Version: 1.29.0 Command: /Library/Frameworks/R.framework/Resources/bin/R CMD build --keep-empty-dirs --no-resave-data zinbwave StartedAt: 2025-02-09 17:55:38 -0500 (Sun, 09 Feb 2025) EndedAt: 2025-02-09 17:56:26 -0500 (Sun, 09 Feb 2025) EllapsedTime: 48.4 seconds RetCode: 0 Status: OK PackageFile: zinbwave_1.29.0.tar.gz PackageFileSize: 585.2 KiB