Package: zinbwave Version: 1.29.0 Command: /home/biocbuild/R/R/bin/R CMD check --install=check:zinbwave.install-out.txt --library=/home/biocbuild/R/R/site-library --no-vignettes --timings zinbwave_1.29.0.tar.gz StartedAt: 2025-01-27 14:00:57 -0000 (Mon, 27 Jan 2025) EndedAt: 2025-01-27 14:08:01 -0000 (Mon, 27 Jan 2025) EllapsedTime: 424.0 seconds RetCode: 0 Status: OK CheckDir: zinbwave.Rcheck Warnings: 0