Package: zinbwave Version: 1.29.0 Command: rm -rf zinbwave.buildbin-libdir && mkdir zinbwave.buildbin-libdir && /Users/biocbuild/BBS/utils/build-universal.sh zinbwave_1.29.0.tar.gz /Library/Frameworks/R.framework/Resources/bin/R zinbwave.buildbin-libdir StartedAt: 2025-02-10 01:22:49 -0500 (Mon, 10 Feb 2025) EndedAt: 2025-02-10 01:23:31 -0500 (Mon, 10 Feb 2025) EllapsedTime: 41.7 seconds RetCode: 0 Status: OK PackageFile: zinbwave_1.29.0.tgz PackageFileSize: 1.016 MiB