Package: zinbwave Version: 1.29.0 Command: /Library/Frameworks/R.framework/Resources/bin/R CMD build --keep-empty-dirs --no-resave-data zinbwave StartedAt: 2025-02-03 18:47:03 -0500 (Mon, 03 Feb 2025) EndedAt: 2025-02-03 18:49:01 -0500 (Mon, 03 Feb 2025) EllapsedTime: 118.1 seconds RetCode: 0 Status: OK PackageFile: zinbwave_1.29.0.tar.gz PackageFileSize: 587.3 KiB