Package: zinbwave Version: 1.29.0 Command: /Library/Frameworks/R.framework/Resources/bin/R CMD check --install=check:zinbwave.install-out.txt --library=/Library/Frameworks/R.framework/Resources/library --no-vignettes --timings zinbwave_1.29.0.tar.gz StartedAt: 2025-02-10 00:26:14 -0500 (Mon, 10 Feb 2025) EndedAt: 2025-02-10 00:30:49 -0500 (Mon, 10 Feb 2025) EllapsedTime: 275.3 seconds RetCode: 0 Status: OK CheckDir: zinbwave.Rcheck Warnings: 0