Package: zinbwave Version: 1.29.0 Command: /Library/Frameworks/R.framework/Resources/bin/R CMD INSTALL zinbwave StartedAt: 2025-02-09 15:34:24 -0500 (Sun, 09 Feb 2025) EndedAt: 2025-02-09 15:35:11 -0500 (Sun, 09 Feb 2025) EllapsedTime: 47.5 seconds RetCode: 0 Status: OK