Package: zinbwave Version: 1.29.0 Command: /home/biocbuild/bbs-3.21-bioc/R/bin/R CMD build --keep-empty-dirs --no-resave-data zinbwave StartedAt: 2025-02-09 19:47:52 -0500 (Sun, 09 Feb 2025) EndedAt: 2025-02-09 19:49:52 -0500 (Sun, 09 Feb 2025) EllapsedTime: 120.5 seconds RetCode: 0 Status: OK PackageFile: zinbwave_1.29.0.tar.gz PackageFileSize: 489.3 KiB