Package: zinbwave Version: 1.29.0 Command: /home/biocbuild/bbs-3.21-bioc/R/bin/R CMD check --install=check:zinbwave.install-out.txt --library=/home/biocbuild/bbs-3.21-bioc/R/site-library --timings zinbwave_1.29.0.tar.gz StartedAt: 2025-02-04 03:56:48 -0500 (Tue, 04 Feb 2025) EndedAt: 2025-02-04 04:03:05 -0500 (Tue, 04 Feb 2025) EllapsedTime: 376.8 seconds RetCode: 0 Status: OK CheckDir: zinbwave.Rcheck Warnings: 0