Package: zinbwave Version: 1.29.0 Command: /home/biocbuild/bbs-3.21-bioc/R/bin/R CMD INSTALL zinbwave StartedAt: 2025-02-09 15:27:37 -0500 (Sun, 09 Feb 2025) EndedAt: 2025-02-09 15:28:11 -0500 (Sun, 09 Feb 2025) EllapsedTime: 34.0 seconds RetCode: 0 Status: OK