Package: zinbwave Version: 1.29.0 Command: rm -rf zinbwave.buildbin-libdir && mkdir zinbwave.buildbin-libdir && E:\biocbuild\bbs-3.21-bioc\R\bin\R.exe CMD INSTALL --build --library=zinbwave.buildbin-libdir zinbwave_1.29.0.tar.gz StartedAt: 2025-02-04 09:11:31 -0500 (Tue, 04 Feb 2025) EndedAt: 2025-02-04 09:12:32 -0500 (Tue, 04 Feb 2025) EllapsedTime: 60.9 seconds RetCode: 0 Status: OK PackageFile: zinbwave_1.29.0.zip PackageFileSize: 841 KiB