Package: zinbwave Version: 1.29.0 Command: chmod a+r zinbwave -R && E:\biocbuild\bbs-3.21-bioc\R\bin\R.exe CMD build --keep-empty-dirs --no-resave-data zinbwave StartedAt: 2025-02-03 22:33:46 -0500 (Mon, 03 Feb 2025) EndedAt: 2025-02-03 22:36:31 -0500 (Mon, 03 Feb 2025) EllapsedTime: 164.4 seconds RetCode: 0 Status: OK PackageFile: zinbwave_1.29.0.tar.gz PackageFileSize: 384.9 KiB