Package: APAlyzer Version: 1.21.0 Command: E:\biocbuild\bbs-3.21-bioc\R\bin\R.exe CMD check --no-multiarch --test-dir=longtests --no-stop-on-test-error --no-codoc --no-examples --no-manual --ignore-vignettes --check-subdirs=no APAlyzer_1.21.0.tar.gz StartedAt: 2025-02-01 16:03:32 -0500 (Sat, 01 Feb 2025) EndedAt: 2025-02-01 16:07:26 -0500 (Sat, 01 Feb 2025) EllapsedTime: 233.9 seconds RetCode: 1 Status: ERROR CheckDir: APAlyzer.Rcheck Warnings: NA