Package: biodbChebi Version: 1.13.0 Command: E:\biocbuild\bbs-3.21-bioc\R\bin\R.exe CMD check --no-multiarch --test-dir=longtests --no-stop-on-test-error --no-codoc --no-examples --no-manual --ignore-vignettes --check-subdirs=no biodbChebi_1.13.0.tar.gz StartedAt: 2025-02-08 16:03:05 -0500 (Sat, 08 Feb 2025) EndedAt: 2025-02-08 16:06:51 -0500 (Sat, 08 Feb 2025) EllapsedTime: 225.8 seconds RetCode: 0 Status: OK CheckDir: biodbChebi.Rcheck Warnings: 0