Package: biodbUniprot Version: 1.13.0 Command: /Library/Frameworks/R.framework/Resources/bin/R CMD check --test-dir=longtests --no-stop-on-test-error --no-codoc --no-examples --no-manual --ignore-vignettes --check-subdirs=no biodbUniprot_1.13.0.tar.gz StartedAt: 2025-02-08 16:01:25 -0500 (Sat, 08 Feb 2025) EndedAt: 2025-02-08 16:03:33 -0500 (Sat, 08 Feb 2025) EllapsedTime: 128.5 seconds RetCode: 0 Status: OK CheckDir: biodbUniprot.Rcheck Warnings: 0