Package: cBioPortalData Version: 2.19.12 Command: /Library/Frameworks/R.framework/Resources/bin/R CMD check --test-dir=longtests --no-stop-on-test-error --no-codoc --no-examples --no-manual --ignore-vignettes --check-subdirs=no cBioPortalData_2.19.12.tar.gz StartedAt: 2025-02-08 16:02:25 -0500 (Sat, 08 Feb 2025) EndedAt: 2025-02-08 19:36:22 -0500 (Sat, 08 Feb 2025) EllapsedTime: 12837.2 seconds RetCode: 1 Status: ERROR CheckDir: cBioPortalData.Rcheck Warnings: NA