Package: clusterExperiment Version: 2.27.0 Command: /Library/Frameworks/R.framework/Resources/bin/R CMD check --test-dir=longtests --no-stop-on-test-error --no-codoc --no-examples --no-manual --ignore-vignettes --check-subdirs=no clusterExperiment_2.27.0.tar.gz StartedAt: 2025-02-08 16:03:33 -0500 (Sat, 08 Feb 2025) EndedAt: 2025-02-08 16:15:53 -0500 (Sat, 08 Feb 2025) EllapsedTime: 739.5 seconds RetCode: 1 Status: ERROR CheckDir: clusterExperiment.Rcheck Warnings: NA