Package: ginmappeR Version: 1.3.3 Command: E:\biocbuild\bbs-3.21-bioc\R\bin\R.exe CMD check --no-multiarch --test-dir=longtests --no-stop-on-test-error --no-codoc --no-examples --no-manual --ignore-vignettes --check-subdirs=no ginmappeR_1.3.3.tar.gz StartedAt: 2025-02-08 16:26:20 -0500 (Sat, 08 Feb 2025) EndedAt: 2025-02-08 16:32:04 -0500 (Sat, 08 Feb 2025) EllapsedTime: 344.6 seconds RetCode: 1 Status: ERROR CheckDir: ginmappeR.Rcheck Warnings: NA