Package: mosdef Version: 1.3.1 Command: /home/biocbuild/bbs-3.21-bioc/R/bin/R CMD check --test-dir=longtests --no-stop-on-test-error --no-codoc --no-examples --no-manual --ignore-vignettes --check-subdirs=no mosdef_1.3.1.tar.gz StartedAt: 2025-02-08 16:17:17 -0500 (Sat, 08 Feb 2025) EndedAt: 2025-02-08 16:31:01 -0500 (Sat, 08 Feb 2025) EllapsedTime: 823.5 seconds RetCode: 0 Status: OK CheckDir: mosdef.Rcheck Warnings: 0