Package: rhdf5 Version: 2.51.2 Command: /home/biocbuild/bbs-3.21-bioc/R/bin/R CMD check --test-dir=longtests --no-stop-on-test-error --no-codoc --no-examples --no-manual --ignore-vignettes --check-subdirs=no rhdf5_2.51.2.tar.gz StartedAt: 2025-02-08 16:19:54 -0500 (Sat, 08 Feb 2025) EndedAt: 2025-02-08 16:21:37 -0500 (Sat, 08 Feb 2025) EllapsedTime: 103.0 seconds RetCode: 0 Status: OK CheckDir: rhdf5.Rcheck Warnings: 0