Package: rhdf5 Version: 2.51.2 Command: E:\biocbuild\bbs-3.21-bioc\R\bin\R.exe CMD check --no-multiarch --test-dir=longtests --no-stop-on-test-error --no-codoc --no-examples --no-manual --ignore-vignettes --check-subdirs=no rhdf5_2.51.2.tar.gz StartedAt: 2025-02-08 16:31:44 -0500 (Sat, 08 Feb 2025) EndedAt: 2025-02-08 16:34:40 -0500 (Sat, 08 Feb 2025) EllapsedTime: 175.3 seconds RetCode: 0 Status: WARNINGS CheckDir: rhdf5.Rcheck Warnings: 1