Package: BSgenomeForge Version: 1.7.0 Command: /home/rapidbuild/bbs-3.21-bioc-rapid/R/bin/R CMD build --keep-empty-dirs --no-resave-data BSgenomeForge StartedAt: 2025-02-10 06:41:01 -0500 (Mon, 10 Feb 2025) EndedAt: 2025-02-10 06:41:51 -0500 (Mon, 10 Feb 2025) EllapsedTime: 49.9 seconds RetCode: 0 Status: OK PackageFile: BSgenomeForge_1.7.0.tar.gz PackageFileSize: 693.9 KiB