Package: BSgenomeForge Version: 1.7.0 Command: /home/rapidbuild/bbs-3.21-bioc-rapid/R/bin/R CMD check --install=check:BSgenomeForge.install-out.txt --library=/home/rapidbuild/bbs-3.21-bioc-rapid/R/site-library --timings BSgenomeForge_1.7.0.tar.gz StartedAt: 2025-02-10 08:14:43 -0500 (Mon, 10 Feb 2025) EndedAt: 2025-02-10 08:20:10 -0500 (Mon, 10 Feb 2025) EllapsedTime: 326.9 seconds RetCode: 0 Status: OK CheckDir: BSgenomeForge.Rcheck Warnings: 0