Package: BiocBaseUtils Version: 1.9.0 Command: /home/rapidbuild/bbs-3.21-bioc-rapid/R/bin/R CMD INSTALL BiocBaseUtils StartedAt: 2025-02-10 06:08:23 -0500 (Mon, 10 Feb 2025) EndedAt: 2025-02-10 06:08:25 -0500 (Mon, 10 Feb 2025) EllapsedTime: 2.0 seconds RetCode: 0 Status: OK