Package: BiocFileCache Version: 2.15.1 Command: /home/rapidbuild/bbs-3.21-bioc-rapid/R/bin/R CMD build --keep-empty-dirs --no-resave-data BiocFileCache StartedAt: 2025-02-10 06:37:27 -0500 (Mon, 10 Feb 2025) EndedAt: 2025-02-10 06:38:35 -0500 (Mon, 10 Feb 2025) EllapsedTime: 68.3 seconds RetCode: 0 Status: OK PackageFile: BiocFileCache_2.15.1.tar.gz PackageFileSize: 722.5 KiB