Package: BiocFileCache Version: 2.15.1 Command: /home/rapidbuild/bbs-3.21-bioc-rapid/R/bin/R CMD check --install=check:BiocFileCache.install-out.txt --library=/home/rapidbuild/bbs-3.21-bioc-rapid/R/site-library --timings BiocFileCache_2.15.1.tar.gz StartedAt: 2025-02-13 13:48:52 -0500 (Thu, 13 Feb 2025) EndedAt: 2025-02-13 13:51:09 -0500 (Thu, 13 Feb 2025) EllapsedTime: 137.3 seconds RetCode: 0 Status: OK CheckDir: BiocFileCache.Rcheck Warnings: 0