Package: BiocSingular Version: 1.23.0 Command: /home/rapidbuild/bbs-3.21-bioc-rapid/R/bin/R CMD check --install=check:BiocSingular.install-out.txt --library=/home/rapidbuild/bbs-3.21-bioc-rapid/R/site-library --timings BiocSingular_1.23.0.tar.gz StartedAt: 2025-02-04 13:56:23 -0500 (Tue, 04 Feb 2025) EndedAt: 2025-02-04 13:58:45 -0500 (Tue, 04 Feb 2025) EllapsedTime: 142.5 seconds RetCode: 0 Status: WARNINGS CheckDir: BiocSingular.Rcheck Warnings: 1