Package: BiocSingular Version: 1.23.0 Command: /home/rapidbuild/bbs-3.21-bioc-rapid/R/bin/R CMD INSTALL BiocSingular StartedAt: 2025-02-10 06:20:56 -0500 (Mon, 10 Feb 2025) EndedAt: 2025-02-10 06:21:22 -0500 (Mon, 10 Feb 2025) EllapsedTime: 26.5 seconds RetCode: 0 Status: OK