Package: BumpyMatrix Version: 1.15.0 Command: /home/rapidbuild/bbs-3.21-bioc-rapid/R/bin/R CMD INSTALL BumpyMatrix StartedAt: 2025-02-10 06:13:03 -0500 (Mon, 10 Feb 2025) EndedAt: 2025-02-10 06:13:15 -0500 (Mon, 10 Feb 2025) EllapsedTime: 12.0 seconds RetCode: 0 Status: OK