Package: CompoundDb Version: 1.11.2 Command: /home/rapidbuild/bbs-3.21-bioc-rapid/R/bin/R CMD build --keep-empty-dirs --no-resave-data CompoundDb StartedAt: 2025-02-10 06:43:09 -0500 (Mon, 10 Feb 2025) EndedAt: 2025-02-10 06:43:58 -0500 (Mon, 10 Feb 2025) EllapsedTime: 48.2 seconds RetCode: 0 Status: OK PackageFile: CompoundDb_1.11.2.tar.gz PackageFileSize: 1.304 MiB