Package: CompoundDb Version: 1.11.2 Command: /home/rapidbuild/bbs-3.21-bioc-rapid/R/bin/R CMD INSTALL CompoundDb StartedAt: 2025-02-13 12:17:21 -0500 (Thu, 13 Feb 2025) EndedAt: 2025-02-13 12:17:37 -0500 (Thu, 13 Feb 2025) EllapsedTime: 16.4 seconds RetCode: 0 Status: OK