Package: ConsensusClusterPlus Version: 1.71.0 Command: /home/rapidbuild/bbs-3.21-bioc-rapid/R/bin/R CMD build --keep-empty-dirs --no-resave-data ConsensusClusterPlus StartedAt: 2025-02-10 06:43:16 -0500 (Mon, 10 Feb 2025) EndedAt: 2025-02-10 06:43:24 -0500 (Mon, 10 Feb 2025) EllapsedTime: 8.6 seconds RetCode: 0 Status: OK PackageFile: ConsensusClusterPlus_1.71.0.tar.gz PackageFileSize: 408.5 KiB