Package: ConsensusClusterPlus Version: 1.71.0 Command: /home/rapidbuild/bbs-3.21-bioc-rapid/R/bin/R CMD check --install=check:ConsensusClusterPlus.install-out.txt --library=/home/rapidbuild/bbs-3.21-bioc-rapid/R/site-library --timings ConsensusClusterPlus_1.71.0.tar.gz StartedAt: 2025-02-10 08:20:42 -0500 (Mon, 10 Feb 2025) EndedAt: 2025-02-10 08:21:07 -0500 (Mon, 10 Feb 2025) EllapsedTime: 25.6 seconds RetCode: 0 Status: OK CheckDir: ConsensusClusterPlus.Rcheck Warnings: 0