Package: ConsensusClusterPlus Version: 1.71.0 Command: /home/rapidbuild/bbs-3.21-bioc-rapid/R/bin/R CMD INSTALL ConsensusClusterPlus StartedAt: 2025-02-10 06:11:22 -0500 (Mon, 10 Feb 2025) EndedAt: 2025-02-10 06:11:26 -0500 (Mon, 10 Feb 2025) EllapsedTime: 4.0 seconds RetCode: 0 Status: OK