Package: DOSE Version: 4.1.0 Command: /home/rapidbuild/bbs-3.21-bioc-rapid/R/bin/R CMD check --install=check:DOSE.install-out.txt --library=/home/rapidbuild/bbs-3.21-bioc-rapid/R/site-library --timings DOSE_4.1.0.tar.gz StartedAt: 2025-02-10 08:26:21 -0500 (Mon, 10 Feb 2025) EndedAt: 2025-02-10 08:28:32 -0500 (Mon, 10 Feb 2025) EllapsedTime: 130.3 seconds RetCode: 0 Status: OK CheckDir: DOSE.Rcheck Warnings: 0