Package: DelayedArray Version: 0.33.5 Maintainer: Hervé Pagès MaintainerEmail: hpages.on.github at gmail.com git_url: https://git.bioconductor.org/packages/DelayedArray git_branch: devel git_last_commit: ce63724 git_last_commit_date: 2025-02-02 23:45:08 -0500 (Sun, 02 Feb 2025)