Package: DelayedArray Version: 0.33.5 Command: /home/rapidbuild/bbs-3.21-bioc-rapid/R/bin/R CMD build --keep-empty-dirs --no-resave-data DelayedArray StartedAt: 2025-02-10 06:44:51 -0500 (Mon, 10 Feb 2025) EndedAt: 2025-02-10 06:45:37 -0500 (Mon, 10 Feb 2025) EllapsedTime: 45.6 seconds RetCode: 0 Status: OK PackageFile: DelayedArray_0.33.5.tar.gz PackageFileSize: 795.7 KiB