Package: DelayedArray Version: 0.33.5 Command: /home/rapidbuild/bbs-3.21-bioc-rapid/R/bin/R CMD INSTALL DelayedArray StartedAt: 2025-02-04 12:13:17 -0500 (Tue, 04 Feb 2025) EndedAt: 2025-02-04 12:13:41 -0500 (Tue, 04 Feb 2025) EllapsedTime: 24.0 seconds RetCode: 0 Status: OK